BEGIN:VCALENDAR
VERSION:2.0
PRODID:-//UnitedHealth Group - ECPv5.5.0.1//NONSGML v1.0//EN
CALSCALE:GREGORIAN
METHOD:PUBLISH
X-WR-CALNAME:UnitedHealth Group
X-ORIGINAL-URL:http://uhg.site.findly.com/pt-br/
X-WR-CALDESC:Eventos para UnitedHealth Group
BEGIN:VTIMEZONE
TZID:America/New_York
BEGIN:DAYLIGHT
TZOFFSETFROM:-0500
TZOFFSETTO:-0400
TZNAME:EDT
DTSTART:20210314T070000
END:DAYLIGHT
BEGIN:STANDARD
TZOFFSETFROM:-0400
TZOFFSETTO:-0500
TZNAME:EST
DTSTART:20211107T060000
END:STANDARD
END:VTIMEZONE
BEGIN:VEVENT
DTSTART;TZID=America/New_York:20210428T140000
DTEND;TZID=America/New_York:20210428T150000
DTSTAMP:20210422T091250
CREATED:20210413T140010Z
LAST-MODIFIED:20210413T174613Z
UID:12485-1619618400-1619622000@uhg.site.findly.com
SUMMARY:UHG ao vivo: Carreiras em Enfermagem
DESCRIPTION:Voltar para Lista de Eventos \nEventos28 de Abril\, das 14h às 15h \nAqui\, no UnitedHealth Group\, buscamos a excelência em tudo o que fazemos\, desde as atividades diárias até mesmo nos projetos mais complexos. E esse fato não seria diferente durante tempos tão desafiadores como este. Por essa razão\, não medimos esforços para garantir o bem-estar dos(as) nossos(as) pacientes e criar um ambiente de trabalho mais seguro aos(as) nossos(as) colaboradores(as). \nNesse mês conversaremos sobre os desafios e conquistas ao atuar como enfermeiro(a)\, luta contra a COVID-19\, cuidado intensivo e muito mais. O que acha de se aprofundar neste assunto conosco? \nClique aqui e se inscreva!
URL:http://uhg.site.findly.com/pt-br/event/uhg-ao-vivo-carreiras-em-enfermagem/
LOCATION:Virtual – Brasil\, United States
CATEGORIES:Virtual
END:VEVENT
END:VCALENDAR